BEGIN:VCALENDAR
VERSION:2.0
PRODID:-//Suzuki Music Academy of Hong Kong - ECPv6.15.20//NONSGML v1.0//EN
CALSCALE:GREGORIAN
METHOD:PUBLISH
X-ORIGINAL-URL:http://suzukihk.org
X-WR-CALDESC:Events for Suzuki Music Academy of Hong Kong
REFRESH-INTERVAL;VALUE=DURATION:PT1H
X-Robots-Tag:noindex
X-PUBLISHED-TTL:PT1H
BEGIN:VTIMEZONE
TZID:UTC
BEGIN:STANDARD
TZOFFSETFROM:+0000
TZOFFSETTO:+0000
TZNAME:UTC
DTSTART:20210101T000000
END:STANDARD
END:VTIMEZONE
BEGIN:VEVENT
DTSTART;TZID=UTC:20230629T080000
DTEND;TZID=UTC:20230629T170000
DTSTAMP:20260423T150230
CREATED:20220728T075830Z
LAST-MODIFIED:20220728T075830Z
UID:8103-1688025600-1688058000@suzukihk.org
SUMMARY:Last Private Lesson Day: Thursday
DESCRIPTION:
URL:http://suzukihk.org/event/last-private-lesson-day-thursday/
CATEGORIES:school calendar
END:VEVENT
BEGIN:VEVENT
DTSTART;TZID=UTC:20230627T080000
DTEND;TZID=UTC:20230806T170000
DTSTAMP:20260423T150230
CREATED:20220728T075658Z
LAST-MODIFIED:20220728T080108Z
UID:8098-1687852800-1691341200@suzukihk.org
SUMMARY:Summer Term
DESCRIPTION:
URL:http://suzukihk.org/event/summer-term-begins-2/
CATEGORIES:school calendar
END:VEVENT
BEGIN:VEVENT
DTSTART;TZID=UTC:20230626T080000
DTEND;TZID=UTC:20230626T170000
DTSTAMP:20260423T150230
CREATED:20220728T075742Z
LAST-MODIFIED:20220728T075742Z
UID:8100-1687766400-1687798800@suzukihk.org
SUMMARY:Last Private Lesson Day: Monday
DESCRIPTION:
URL:http://suzukihk.org/event/last-private-lesson-day-monday/
CATEGORIES:school calendar
END:VEVENT
BEGIN:VEVENT
DTSTART;TZID=UTC:20230623T080000
DTEND;TZID=UTC:20230623T170000
DTSTAMP:20260423T150230
CREATED:20220728T075617Z
LAST-MODIFIED:20220728T075617Z
UID:8096-1687507200-1687539600@suzukihk.org
SUMMARY:Last Private Lesson Day: Friday
DESCRIPTION:
URL:http://suzukihk.org/event/last-private-lesson-day-friday/
CATEGORIES:school calendar
END:VEVENT
BEGIN:VEVENT
DTSTART;TZID=UTC:20230621T080000
DTEND;TZID=UTC:20230621T170000
DTSTAMP:20260423T150230
CREATED:20220728T075537Z
LAST-MODIFIED:20220728T075537Z
UID:8094-1687334400-1687366800@suzukihk.org
SUMMARY:Last Private Lesson Day: Wednesday
DESCRIPTION:
URL:http://suzukihk.org/event/last-private-lesson-day-wednesday/
CATEGORIES:school calendar
END:VEVENT
BEGIN:VEVENT
DTSTART;TZID=UTC:20230620T080000
DTEND;TZID=UTC:20230620T170000
DTSTAMP:20260423T150230
CREATED:20220728T075451Z
LAST-MODIFIED:20220728T075451Z
UID:8090-1687248000-1687280400@suzukihk.org
SUMMARY:Last Private Lesson Day: Tuesday
DESCRIPTION:
URL:http://suzukihk.org/event/last-private-lesson-day-tuesday/
CATEGORIES:school calendar
END:VEVENT
BEGIN:VEVENT
DTSTART;TZID=UTC:20230617T080000
DTEND;TZID=UTC:20230617T170000
DTSTAMP:20260423T150230
CREATED:20220728T075319Z
LAST-MODIFIED:20220728T075319Z
UID:8088-1686988800-1687021200@suzukihk.org
SUMMARY:End of Year Play-In
DESCRIPTION:
URL:http://suzukihk.org/event/end-of-year-play-in/
CATEGORIES:concerts,outside events,school calendar
END:VEVENT
BEGIN:VEVENT
DTSTART;TZID=UTC:20230610T080000
DTEND;TZID=UTC:20230610T170000
DTSTAMP:20260423T150230
CREATED:20220728T075233Z
LAST-MODIFIED:20220728T075233Z
UID:8086-1686384000-1686416400@suzukihk.org
SUMMARY:Orchestra/Chamber Concert (Tentative)
DESCRIPTION:
URL:http://suzukihk.org/event/orchestra-chamber-concert-tentative/
CATEGORIES:concerts,outside events,school calendar
END:VEVENT
BEGIN:VEVENT
DTSTART;TZID=UTC:20230523T080000
DTEND;TZID=UTC:20230602T170000
DTSTAMP:20260423T150230
CREATED:20220728T075139Z
LAST-MODIFIED:20220728T075139Z
UID:8084-1684828800-1685725200@suzukihk.org
SUMMARY:Make-Up Days  (Buddha's Birthday)
DESCRIPTION:
URL:http://suzukihk.org/event/make-up-days-buddhas-birthday/
CATEGORIES:school calendar
END:VEVENT
BEGIN:VEVENT
DTSTART;TZID=UTC:20230520T080000
DTEND;TZID=UTC:20230520T170000
DTSTAMP:20260423T150230
CREATED:20220728T075043Z
LAST-MODIFIED:20220728T075044Z
UID:8082-1684569600-1684602000@suzukihk.org
SUMMARY:Graduation Concert (Tentative)
DESCRIPTION:
URL:http://suzukihk.org/event/graduation-concert-tentative/
CATEGORIES:concerts,outside events,school calendar
END:VEVENT
BEGIN:VEVENT
DTSTART;TZID=UTC:20230501T080000
DTEND;TZID=UTC:20230501T170000
DTSTAMP:20260423T150230
CREATED:20220728T074920Z
LAST-MODIFIED:20220728T074920Z
UID:8080-1682928000-1682960400@suzukihk.org
SUMMARY:NO LESSONS: Labour Day
DESCRIPTION:
URL:http://suzukihk.org/event/no-lessons-labour-day/
CATEGORIES:school calendar
END:VEVENT
BEGIN:VEVENT
DTSTART;TZID=UTC:20230403T080000
DTEND;TZID=UTC:20230410T170000
DTSTAMP:20260423T150230
CREATED:20220728T074846Z
LAST-MODIFIED:20220728T074846Z
UID:8078-1680508800-1681146000@suzukihk.org
SUMMARY:NO LESSONS: Ching Ming/Good Friday/Easter Holiday/Spring Break
DESCRIPTION:
URL:http://suzukihk.org/event/no-lessons-ching-ming-good-friday-easter-holiday-spring-break/
CATEGORIES:school calendar
END:VEVENT
BEGIN:VEVENT
DTSTART;TZID=UTC:20230325T080000
DTEND;TZID=UTC:20230325T170000
DTSTAMP:20260423T150230
CREATED:20220728T074741Z
LAST-MODIFIED:20220728T074741Z
UID:8076-1679731200-1679763600@suzukihk.org
SUMMARY:Bach in the Subway
DESCRIPTION:
URL:http://suzukihk.org/event/bach-in-the-subway-4/
CATEGORIES:concerts,outside events,school calendar
END:VEVENT
BEGIN:VEVENT
DTSTART;TZID=UTC:20230320T080000
DTEND;TZID=UTC:20230324T170000
DTSTAMP:20260423T150230
CREATED:20220728T074702Z
LAST-MODIFIED:20220728T074702Z
UID:8074-1679299200-1679677200@suzukihk.org
SUMMARY:Achievement Week
DESCRIPTION:
URL:http://suzukihk.org/event/achievement-week-2/
CATEGORIES:school calendar
END:VEVENT
BEGIN:VEVENT
DTSTART;TZID=UTC:20230206T080000
DTEND;TZID=UTC:20230206T170000
DTSTAMP:20260423T150230
CREATED:20220728T074622Z
LAST-MODIFIED:20220728T074622Z
UID:8071-1675670400-1675702800@suzukihk.org
SUMMARY:Spring Term Begins
DESCRIPTION:
URL:http://suzukihk.org/event/spring-term-begins-3/
CATEGORIES:school calendar
END:VEVENT
BEGIN:VEVENT
DTSTART;TZID=UTC:20230204T080000
DTEND;TZID=UTC:20230204T170000
DTSTAMP:20260423T150230
CREATED:20220728T074403Z
LAST-MODIFIED:20220728T074403Z
UID:8069-1675497600-1675530000@suzukihk.org
SUMMARY:Last Day of Fall Term
DESCRIPTION:
URL:http://suzukihk.org/event/last-day-of-fall-term-3/
CATEGORIES:school calendar
END:VEVENT
BEGIN:VEVENT
DTSTART;TZID=UTC:20230130T080000
DTEND;TZID=UTC:20230130T170000
DTSTAMP:20260423T150230
CREATED:20220728T074326Z
LAST-MODIFIED:20220728T074326Z
UID:8067-1675065600-1675098000@suzukihk.org
SUMMARY:Classes Resume
DESCRIPTION:
URL:http://suzukihk.org/event/classes-resume-14/
CATEGORIES:school calendar
END:VEVENT
BEGIN:VEVENT
DTSTART;TZID=UTC:20230121T080000
DTEND;TZID=UTC:20230128T170000
DTSTAMP:20260423T150230
CREATED:20220728T074248Z
LAST-MODIFIED:20220728T074248Z
UID:8065-1674288000-1674925200@suzukihk.org
SUMMARY:NO LESSONS: Lunar New Year Holiday
DESCRIPTION:
URL:http://suzukihk.org/event/no-lessons-lunar-new-year-holiday/
CATEGORIES:school calendar
END:VEVENT
BEGIN:VEVENT
DTSTART;TZID=UTC:20230114T080000
DTEND;TZID=UTC:20230114T170000
DTSTAMP:20260423T150230
CREATED:20220728T074158Z
LAST-MODIFIED:20220728T074158Z
UID:8063-1673683200-1673715600@suzukihk.org
SUMMARY:LNY Group Class Concert (Tentative)
DESCRIPTION:
URL:http://suzukihk.org/event/lny-group-class-concert-tentative/
CATEGORIES:concerts,outside events,school calendar
END:VEVENT
BEGIN:VEVENT
DTSTART;TZID=UTC:20230105T080000
DTEND;TZID=UTC:20230106T170000
DTSTAMP:20260423T150230
CREATED:20220728T074102Z
LAST-MODIFIED:20220728T074102Z
UID:8060-1672905600-1673024400@suzukihk.org
SUMMARY:Make-up Days
DESCRIPTION:
URL:http://suzukihk.org/event/make-up-days-2/
CATEGORIES:school calendar
END:VEVENT
BEGIN:VEVENT
DTSTART;TZID=UTC:20221220T080000
DTEND;TZID=UTC:20230106T170000
DTSTAMP:20260423T150230
CREATED:20220728T074021Z
LAST-MODIFIED:20220728T074021Z
UID:8058-1671523200-1673024400@suzukihk.org
SUMMARY:NO LESSONS: Christmas Break
DESCRIPTION:
URL:http://suzukihk.org/event/no-lessons-christmas-break/
CATEGORIES:school calendar
END:VEVENT
BEGIN:VEVENT
DTSTART;TZID=UTC:20221217T080000
DTEND;TZID=UTC:20221217T170000
DTSTAMP:20260423T150230
CREATED:20220728T073937Z
LAST-MODIFIED:20220728T073938Z
UID:8056-1671264000-1671296400@suzukihk.org
SUMMARY:Stanley Christmas Market Performance (Tentative)
DESCRIPTION:
URL:http://suzukihk.org/event/stanley-christmas-market-performance-tentative/
CATEGORIES:concerts,outside events,school calendar
END:VEVENT
BEGIN:VEVENT
DTSTART;TZID=UTC:20221210T080000
DTEND;TZID=UTC:20221210T170000
DTSTAMP:20260423T150230
CREATED:20220728T073846Z
LAST-MODIFIED:20220728T073846Z
UID:8054-1670659200-1670691600@suzukihk.org
SUMMARY:Orchestra & Chamber Music Concert (Tentative)
DESCRIPTION:
URL:http://suzukihk.org/event/orchestra-chamber-music-concert-tentative/
CATEGORIES:concerts,school calendar
END:VEVENT
BEGIN:VEVENT
DTSTART;TZID=UTC:20221126T090000
DTEND;TZID=UTC:20221126T140000
DTSTAMP:20260423T150230
CREATED:20220728T073753Z
LAST-MODIFIED:20220728T073754Z
UID:8052-1669453200-1669471200@suzukihk.org
SUMMARY:Solo Recitals
DESCRIPTION:
URL:http://suzukihk.org/event/solo-recitals/
LOCATION:City Hall Recital Hall\, Edinburgh Place\, Central\, Hong Kong
CATEGORIES:concerts,school calendar
END:VEVENT
BEGIN:VEVENT
DTSTART;TZID=UTC:20221029T080000
DTEND;TZID=UTC:20221029T170000
DTSTAMP:20260423T150230
CREATED:20220728T073623Z
LAST-MODIFIED:20220728T073624Z
UID:8050-1667030400-1667062800@suzukihk.org
SUMMARY:Halloween Play-In
DESCRIPTION:
URL:http://suzukihk.org/event/halloween-play-in-4/
LOCATION:Stanley Plaza Amphitheatre\, 23 Carmel Rd.\,  Stanley\, Hong Kong\, Hong Kong
CATEGORIES:concerts,outside events,school calendar
END:VEVENT
BEGIN:VEVENT
DTSTART;TZID=UTC:20221001T080000
DTEND;TZID=UTC:20221007T170000
DTSTAMP:20260423T150230
CREATED:20220728T073515Z
LAST-MODIFIED:20220728T073515Z
UID:8047-1664611200-1665162000@suzukihk.org
SUMMARY:NO LESSONS: National Day/Chung Yeung/Mid-Term Break
DESCRIPTION:
URL:http://suzukihk.org/event/no-lessons-national-day-chung-yeung-mid-term-break/
CATEGORIES:school calendar
END:VEVENT
BEGIN:VEVENT
DTSTART;TZID=UTC:20220924T080000
DTEND;TZID=UTC:20220924T170000
DTSTAMP:20260423T150230
CREATED:20220728T073352Z
LAST-MODIFIED:20220728T073353Z
UID:8045-1664006400-1664038800@suzukihk.org
SUMMARY:Book 4 Piano Recital: Hanson Siu
DESCRIPTION:
URL:http://suzukihk.org/event/book-4-piano-recital-hanson-siu/
CATEGORIES:concerts,school calendar
END:VEVENT
BEGIN:VEVENT
DTSTART;TZID=UTC:20220912T080000
DTEND;TZID=UTC:20220912T170000
DTSTAMP:20260423T150230
CREATED:20220728T073255Z
LAST-MODIFIED:20220728T073255Z
UID:8043-1662969600-1663002000@suzukihk.org
SUMMARY:NO LESSONS:  Day after Mid-Autumn Festival
DESCRIPTION:
URL:http://suzukihk.org/event/no-lessons-day-after-mid-autumn-festival-2/
CATEGORIES:school calendar
END:VEVENT
BEGIN:VEVENT
DTSTART;TZID=UTC:20220903T080000
DTEND;TZID=UTC:20220903T170000
DTSTAMP:20260423T150230
CREATED:20220728T073042Z
LAST-MODIFIED:20220728T073042Z
UID:8039-1662192000-1662224400@suzukihk.org
SUMMARY:Fall Term Begins
DESCRIPTION:
URL:http://suzukihk.org/event/fall-term-begins-3/
CATEGORIES:school calendar
END:VEVENT
BEGIN:VEVENT
DTSTART;TZID=UTC:20220829T080000
DTEND;TZID=UTC:20220902T170000
DTSTAMP:20260423T150230
CREATED:20220728T073205Z
LAST-MODIFIED:20220728T073205Z
UID:8041-1661760000-1662138000@suzukihk.org
SUMMARY:Make-up Days
DESCRIPTION:
URL:http://suzukihk.org/event/make-up-days/
CATEGORIES:school calendar
END:VEVENT
END:VCALENDAR